BEGIN:VCALENDAR
VERSION:2.0
PRODID:-//hacksw/handcal//NONSGML v1.0//EN
BEGIN:VEVENT
SUMMARY:ML(Loisirs) Vs Vernouillet
UID:d6aaacd5-5a81-4b2c-b1bb-3ef604e49f8e
DTSTART:20260506T190000Z
DTEND:20260506T210000Z
LOCATION:Palais Omnisports 18 rue de la Digue 78600 maisons-Laffitte
CATEGORIES:Sportif
STATUS:
URL;VALUE=URI:https://www.maisons-laffitte-hb.com/evenements/2026/05/06/mlloisirs-vs-vernouillet-2443004
END:VEVENT
END:VCALENDAR
