BEGIN:VCALENDAR
VERSION:2.0
PRODID:-//hacksw/handcal//NONSGML v1.0//EN
BEGIN:VEVENT
SUMMARY:Trappes Vs ML(M2)
UID:61bc7666-3c6b-486e-864e-9d086ce3ea1d
DTSTART:20260418T170000Z
DTEND:20260418T190000Z
LOCATION:Localisation   
CATEGORIES:Sportif
STATUS:
URL;VALUE=URI:https://www.maisons-laffitte-hb.com/evenements/2026/04/18/trappes-vs-mlm2-2442998
END:VEVENT
END:VCALENDAR
